BEGIN:VCALENDAR
VERSION:2.0
PRODID:-//RKSVV - ECPv6.15.11//NONSGML v1.0//EN
CALSCALE:GREGORIAN
METHOD:PUBLISH
X-WR-CALNAME:RKSVV
X-ORIGINAL-URL:https://rksvv.nl
X-WR-CALDESC:Evenementen voor RKSVV
REFRESH-INTERVAL;VALUE=DURATION:PT1H
X-Robots-Tag:noindex
X-PUBLISHED-TTL:PT1H
BEGIN:VTIMEZONE
TZID:Europe/Amsterdam
BEGIN:DAYLIGHT
TZOFFSETFROM:+0100
TZOFFSETTO:+0200
TZNAME:CEST
DTSTART:20240331T010000
END:DAYLIGHT
BEGIN:STANDARD
TZOFFSETFROM:+0200
TZOFFSETTO:+0100
TZNAME:CET
DTSTART:20241027T010000
END:STANDARD
BEGIN:DAYLIGHT
TZOFFSETFROM:+0100
TZOFFSETTO:+0200
TZNAME:CEST
DTSTART:20250330T010000
END:DAYLIGHT
BEGIN:STANDARD
TZOFFSETFROM:+0200
TZOFFSETTO:+0100
TZNAME:CET
DTSTART:20251026T010000
END:STANDARD
BEGIN:DAYLIGHT
TZOFFSETFROM:+0100
TZOFFSETTO:+0200
TZNAME:CEST
DTSTART:20260329T010000
END:DAYLIGHT
BEGIN:STANDARD
TZOFFSETFROM:+0200
TZOFFSETTO:+0100
TZNAME:CET
DTSTART:20261025T010000
END:STANDARD
END:VTIMEZONE
BEGIN:VEVENT
DTSTART;TZID=Europe/Amsterdam:20250104T193000
DTEND;TZID=Europe/Amsterdam:20250104T233000
DTSTAMP:20260422T080019
CREATED:20241018T152852Z
LAST-MODIFIED:20241018T152852Z
UID:9567-1736019000-1736033400@rksvv.nl
SUMMARY:Nieuwjaarsreceptie
DESCRIPTION:
URL:https://rksvv.nl/event/nieuwjaarsreceptie/
LOCATION:Kantine schutterij St.Cornelius Swartbroek of kantine RKSVV Swartbroek\, Swartbroek\, Limburg
END:VEVENT
END:VCALENDAR