BEGIN:VCALENDAR
VERSION:2.0
PRODID:-//RKSVV - ECPv6.15.11//NONSGML v1.0//EN
CALSCALE:GREGORIAN
METHOD:PUBLISH
X-WR-CALNAME:RKSVV
X-ORIGINAL-URL:https://rksvv.nl
X-WR-CALDESC:Evenementen voor RKSVV
REFRESH-INTERVAL;VALUE=DURATION:PT1H
X-Robots-Tag:noindex
X-PUBLISHED-TTL:PT1H
BEGIN:VTIMEZONE
TZID:Europe/Amsterdam
BEGIN:DAYLIGHT
TZOFFSETFROM:+0100
TZOFFSETTO:+0200
TZNAME:CEST
DTSTART:20230326T010000
END:DAYLIGHT
BEGIN:STANDARD
TZOFFSETFROM:+0200
TZOFFSETTO:+0100
TZNAME:CET
DTSTART:20231029T010000
END:STANDARD
BEGIN:DAYLIGHT
TZOFFSETFROM:+0100
TZOFFSETTO:+0200
TZNAME:CEST
DTSTART:20240331T010000
END:DAYLIGHT
BEGIN:STANDARD
TZOFFSETFROM:+0200
TZOFFSETTO:+0100
TZNAME:CET
DTSTART:20241027T010000
END:STANDARD
BEGIN:DAYLIGHT
TZOFFSETFROM:+0100
TZOFFSETTO:+0200
TZNAME:CEST
DTSTART:20250330T010000
END:DAYLIGHT
BEGIN:STANDARD
TZOFFSETFROM:+0200
TZOFFSETTO:+0100
TZNAME:CET
DTSTART:20251026T010000
END:STANDARD
END:VTIMEZONE
BEGIN:VEVENT
DTSTART;TZID=Europe/Amsterdam:20240907T000000
DTEND;TZID=Europe/Amsterdam:20240907T233000
DTSTAMP:20260422T123624
CREATED:20240408T120654Z
LAST-MODIFIED:20240811T071339Z
UID:8302-1725667200-1725751800@rksvv.nl
SUMMARY:RKSVV 80 jaar
DESCRIPTION:Op zaterdag 7 september vieren we feest vanwege het feit dat RKSVV dan haar 80 jarig jubileum viert. \nVanaf 17.00uur is er muziek en een wedstrijd van RKSVV 35+1 – DESM 35+1
URL:https://rksvv.nl/event/rksvv-80-jaar/
CATEGORIES:80 jarig jubileum RKSVV
END:VEVENT
END:VCALENDAR